BEGIN:VCALENDAR
VERSION:2.0
PRODID:-//Yarmouth Greyhound Homefinders - ECPv6.15.13//NONSGML v1.0//EN
CALSCALE:GREGORIAN
METHOD:PUBLISH
X-WR-CALNAME:Yarmouth Greyhound Homefinders
X-ORIGINAL-URL:https://www.yarmouth-greyhound-homefinders.co.uk
X-WR-CALDESC:Events for Yarmouth Greyhound Homefinders
REFRESH-INTERVAL;VALUE=DURATION:PT1H
X-Robots-Tag:noindex
X-PUBLISHED-TTL:PT1H
BEGIN:VTIMEZONE
TZID:Europe/London
BEGIN:DAYLIGHT
TZOFFSETFROM:+0000
TZOFFSETTO:+0100
TZNAME:BST
DTSTART:20220327T010000
END:DAYLIGHT
BEGIN:STANDARD
TZOFFSETFROM:+0100
TZOFFSETTO:+0000
TZNAME:GMT
DTSTART:20221030T010000
END:STANDARD
BEGIN:DAYLIGHT
TZOFFSETFROM:+0000
TZOFFSETTO:+0100
TZNAME:BST
DTSTART:20230326T010000
END:DAYLIGHT
BEGIN:STANDARD
TZOFFSETFROM:+0100
TZOFFSETTO:+0000
TZNAME:GMT
DTSTART:20231029T010000
END:STANDARD
BEGIN:DAYLIGHT
TZOFFSETFROM:+0000
TZOFFSETTO:+0100
TZNAME:BST
DTSTART:20240331T010000
END:DAYLIGHT
BEGIN:STANDARD
TZOFFSETFROM:+0100
TZOFFSETTO:+0000
TZNAME:GMT
DTSTART:20241027T010000
END:STANDARD
END:VTIMEZONE
BEGIN:VEVENT
DTSTART;VALUE=DATE:20230430
DTEND;VALUE=DATE:20230501
DTSTAMP:20260423T200936
CREATED:20230406T091228Z
LAST-MODIFIED:20230406T091552Z
UID:4039-1682812800-1682899199@www.yarmouth-greyhound-homefinders.co.uk
SUMMARY:Strutt Your Mutt Charity Dog Day.
DESCRIPTION:We will have a stall at this event. \nWhy not come along to sunny Lowestoft and Strutt Your Mutt. Take a stroll along the beach on the last day it is open to dogs before the summer season \n\nThere will be so much to see\, do\, and enter your dog into. There is the fun Dog show\, Fastest Recall\, Flyball\, Dog Bingo\, Obedience\, My Dogs Got Talent and loads more. Find out about Dog Yoga and the sport of Canicross\, talk to experts about training\, behaviour and your pets health.\nShop for everything your dog could possibly need\, visit local craft and charity stalls\, listen to sea shanties from the Lowestoft Longshoremen.\nEntry is free but all donations to  Hearing Dogs for Deaf People and The Suffolk Lowland search and rescue charities would be gratefully received.\n\n\n\n\n.
URL:https://www.yarmouth-greyhound-homefinders.co.uk/event/4039/
LOCATION:East Point Pavilion and Royal Green\, Lowestoft\, NR33 0QQ
END:VEVENT
END:VCALENDAR