BEGIN:VCALENDAR
VERSION:2.0
PRODID:-//Yarmouth Greyhound Homefinders - ECPv6.15.13//NONSGML v1.0//EN
CALSCALE:GREGORIAN
METHOD:PUBLISH
X-ORIGINAL-URL:https://www.yarmouth-greyhound-homefinders.co.uk
X-WR-CALDESC:Events for Yarmouth Greyhound Homefinders
REFRESH-INTERVAL;VALUE=DURATION:PT1H
X-Robots-Tag:noindex
X-PUBLISHED-TTL:PT1H
BEGIN:VTIMEZONE
TZID:Europe/London
BEGIN:DAYLIGHT
TZOFFSETFROM:+0000
TZOFFSETTO:+0100
TZNAME:BST
DTSTART:20220327T010000
END:DAYLIGHT
BEGIN:STANDARD
TZOFFSETFROM:+0100
TZOFFSETTO:+0000
TZNAME:GMT
DTSTART:20221030T010000
END:STANDARD
BEGIN:DAYLIGHT
TZOFFSETFROM:+0000
TZOFFSETTO:+0100
TZNAME:BST
DTSTART:20230326T010000
END:DAYLIGHT
BEGIN:STANDARD
TZOFFSETFROM:+0100
TZOFFSETTO:+0000
TZNAME:GMT
DTSTART:20231029T010000
END:STANDARD
BEGIN:DAYLIGHT
TZOFFSETFROM:+0000
TZOFFSETTO:+0100
TZNAME:BST
DTSTART:20240331T010000
END:DAYLIGHT
BEGIN:STANDARD
TZOFFSETFROM:+0100
TZOFFSETTO:+0000
TZNAME:GMT
DTSTART:20241027T010000
END:STANDARD
END:VTIMEZONE
BEGIN:VEVENT
DTSTART;TZID=Europe/London:20230624T090000
DTEND;TZID=Europe/London:20230624T170000
DTSTAMP:20260423T160001
CREATED:20230622T102104Z
LAST-MODIFIED:20230622T102220Z
UID:4360-1687597200-1687626000@www.yarmouth-greyhound-homefinders.co.uk
SUMMARY:Store Collection-Taverham Garden Centre
DESCRIPTION:Please come and see us and say hello and (hopefully) put a donation into our collecting tins.\n\n\n\nEvery penny help us to help the hounds.
URL:https://www.yarmouth-greyhound-homefinders.co.uk/event/store-collection-taverham-garden-centre-2/
LOCATION:Taverham Garden Centre\, Fir Covert Rd\, Taverham\, Norwich\, NR8 6HT
END:VEVENT
END:VCALENDAR