BEGIN:VCALENDAR
VERSION:2.0
PRODID:-//Yarmouth Greyhound Homefinders - ECPv6.15.13//NONSGML v1.0//EN
CALSCALE:GREGORIAN
METHOD:PUBLISH
X-WR-CALNAME:Yarmouth Greyhound Homefinders
X-ORIGINAL-URL:https://www.yarmouth-greyhound-homefinders.co.uk
X-WR-CALDESC:Events for Yarmouth Greyhound Homefinders
REFRESH-INTERVAL;VALUE=DURATION:PT1H
X-Robots-Tag:noindex
X-PUBLISHED-TTL:PT1H
BEGIN:VTIMEZONE
TZID:Europe/London
BEGIN:DAYLIGHT
TZOFFSETFROM:+0000
TZOFFSETTO:+0100
TZNAME:BST
DTSTART:20220327T010000
END:DAYLIGHT
BEGIN:STANDARD
TZOFFSETFROM:+0100
TZOFFSETTO:+0000
TZNAME:GMT
DTSTART:20221030T010000
END:STANDARD
BEGIN:DAYLIGHT
TZOFFSETFROM:+0000
TZOFFSETTO:+0100
TZNAME:BST
DTSTART:20230326T010000
END:DAYLIGHT
BEGIN:STANDARD
TZOFFSETFROM:+0100
TZOFFSETTO:+0000
TZNAME:GMT
DTSTART:20231029T010000
END:STANDARD
BEGIN:DAYLIGHT
TZOFFSETFROM:+0000
TZOFFSETTO:+0100
TZNAME:BST
DTSTART:20240331T010000
END:DAYLIGHT
BEGIN:STANDARD
TZOFFSETFROM:+0100
TZOFFSETTO:+0000
TZNAME:GMT
DTSTART:20241027T010000
END:STANDARD
END:VTIMEZONE
BEGIN:VEVENT
DTSTART;TZID=Europe/London:20231001T110000
DTEND;TZID=Europe/London:20231001T140000
DTSTAMP:20260423T101926
CREATED:20230122T120340Z
LAST-MODIFIED:20230630T183539Z
UID:2979-1696158000-1696168800@www.yarmouth-greyhound-homefinders.co.uk
SUMMARY:Open Day and Auction of Greyhound Memorabilia at the Kennels
DESCRIPTION:Date for your diary. \nAt noon there be many Greyhound themed Auction lots to bid for and it is always a fun event. \nCome and join us for a chat\, a cup of tea and a piece of cake. Lots of stall as well. \nIt would be lovely to see all the dogs and their owners of course. \n 
URL:https://www.yarmouth-greyhound-homefinders.co.uk/event/auction-of-greyhound-memorabilia/
LOCATION:Yarmouth Greyhound Homefinders\, 51 Cromer Road\, Hainford\, NR10 3AU
ATTACH;FMTTYPE=image/jpeg:https://www.yarmouth-greyhound-homefinders.co.uk/wp-content/uploads/2023/01/black-and-white-head-and-shoulders-sized-for-events.jpg
END:VEVENT
END:VCALENDAR