BEGIN:VCALENDAR
VERSION:2.0
PRODID:-//Yarmouth Greyhound Homefinders - ECPv6.15.13//NONSGML v1.0//EN
CALSCALE:GREGORIAN
METHOD:PUBLISH
X-ORIGINAL-URL:https://www.yarmouth-greyhound-homefinders.co.uk
X-WR-CALDESC:Events for Yarmouth Greyhound Homefinders
REFRESH-INTERVAL;VALUE=DURATION:PT1H
X-Robots-Tag:noindex
X-PUBLISHED-TTL:PT1H
BEGIN:VTIMEZONE
TZID:Europe/London
BEGIN:DAYLIGHT
TZOFFSETFROM:+0000
TZOFFSETTO:+0100
TZNAME:BST
DTSTART:20220327T010000
END:DAYLIGHT
BEGIN:STANDARD
TZOFFSETFROM:+0100
TZOFFSETTO:+0000
TZNAME:GMT
DTSTART:20221030T010000
END:STANDARD
BEGIN:DAYLIGHT
TZOFFSETFROM:+0000
TZOFFSETTO:+0100
TZNAME:BST
DTSTART:20230326T010000
END:DAYLIGHT
BEGIN:STANDARD
TZOFFSETFROM:+0100
TZOFFSETTO:+0000
TZNAME:GMT
DTSTART:20231029T010000
END:STANDARD
BEGIN:DAYLIGHT
TZOFFSETFROM:+0000
TZOFFSETTO:+0100
TZNAME:BST
DTSTART:20240331T010000
END:DAYLIGHT
BEGIN:STANDARD
TZOFFSETFROM:+0100
TZOFFSETTO:+0000
TZNAME:GMT
DTSTART:20241027T010000
END:STANDARD
END:VTIMEZONE
BEGIN:VEVENT
DTSTART;TZID=Europe/London:20231014T090000
DTEND;TZID=Europe/London:20231014T170000
DTSTAMP:20260423T102058
CREATED:20231005T185725Z
LAST-MODIFIED:20231005T185725Z
UID:6241-1697274000-1697302800@www.yarmouth-greyhound-homefinders.co.uk
SUMMARY:Collection at Jolleys Pet Store
DESCRIPTION:Collection at Jolleys Pet Store in Sweet Briar Road Norwich\n\nCalling all hounds. Could you and your hoomans spare an hour or two to collect for your pals at the kennels please?\nIf you can help please contact Linda Johnson.\nRing:-07702 601799\nEmail:-lindamjohnson48@hotmail.com.
URL:https://www.yarmouth-greyhound-homefinders.co.uk/event/collection-at-jolleys-pet-store/
LOCATION:Jolleys Pet Store\, Sweet Briar Retail Park\, Sweet Briar Road\, Norwich\, NR6 5AL
ATTACH;FMTTYPE=image/jpeg:https://www.yarmouth-greyhound-homefinders.co.uk/wp-content/uploads/2023/01/black-and-white-head-and-shoulders-sized-for-events.jpg
END:VEVENT
END:VCALENDAR