BEGIN:VCALENDAR
VERSION:2.0
PRODID:-//Yarmouth Greyhound Homefinders - ECPv6.15.13//NONSGML v1.0//EN
CALSCALE:GREGORIAN
METHOD:PUBLISH
X-WR-CALNAME:Yarmouth Greyhound Homefinders
X-ORIGINAL-URL:https://www.yarmouth-greyhound-homefinders.co.uk
X-WR-CALDESC:Events for Yarmouth Greyhound Homefinders
REFRESH-INTERVAL;VALUE=DURATION:PT1H
X-Robots-Tag:noindex
X-PUBLISHED-TTL:PT1H
BEGIN:VTIMEZONE
TZID:Europe/London
BEGIN:DAYLIGHT
TZOFFSETFROM:+0000
TZOFFSETTO:+0100
TZNAME:BST
DTSTART:20230326T010000
END:DAYLIGHT
BEGIN:STANDARD
TZOFFSETFROM:+0100
TZOFFSETTO:+0000
TZNAME:GMT
DTSTART:20231029T010000
END:STANDARD
BEGIN:DAYLIGHT
TZOFFSETFROM:+0000
TZOFFSETTO:+0100
TZNAME:BST
DTSTART:20240331T010000
END:DAYLIGHT
BEGIN:STANDARD
TZOFFSETFROM:+0100
TZOFFSETTO:+0000
TZNAME:GMT
DTSTART:20241027T010000
END:STANDARD
BEGIN:DAYLIGHT
TZOFFSETFROM:+0000
TZOFFSETTO:+0100
TZNAME:BST
DTSTART:20250330T010000
END:DAYLIGHT
BEGIN:STANDARD
TZOFFSETFROM:+0100
TZOFFSETTO:+0000
TZNAME:GMT
DTSTART:20251026T010000
END:STANDARD
END:VTIMEZONE
BEGIN:VEVENT
DTSTART;TZID=Europe/London:20240512T110000
DTEND;TZID=Europe/London:20240512T110000
DTSTAMP:20260422T231914
CREATED:20240505T183255Z
LAST-MODIFIED:20240507T160108Z
UID:7808-1715511600-1715511600@www.yarmouth-greyhound-homefinders.co.uk
SUMMARY:Aysham Circular Walk
DESCRIPTION:Join us (with your hound(s)) for a circular walk led by Chris Hood. \nThe walk is over 1 hour long and  including Marriot’s Way\, grass tracks and pavements. \nMeet at the Bure Valley Railway Station in  Aylsham for an 11.00 start. \nParking at Bure Valley Railway is for patrons only\, so park there at your own risk.\n\nHowever\, Station Road has some good parking options close to the walk starting point.\n\nThe other option is to park within Aylsham itself\, with free parking at Burgh Road just 10 minutes walk away (11 Burgh Rd\, Aylsham\, NR11 6AJ). Unfortunately\, the other main car park in Aylsham (The Buttlands) is currently closed. Parking is also available in the marketplace\, but with a time restriction of 2 hours\, which may leave things a little tight.)
URL:https://www.yarmouth-greyhound-homefinders.co.uk/event/aysham-circular-walk/
LOCATION:Aylsham Railway Station\, Norwich Road\,\,\, Aylsham\, NR11 6BW
ATTACH;FMTTYPE=image/jpeg:https://www.yarmouth-greyhound-homefinders.co.uk/wp-content/uploads/2023/01/black-and-white-head-and-shoulders-sized-for-events.jpg
END:VEVENT
END:VCALENDAR