BEGIN:VCALENDAR
VERSION:2.0
PRODID:-//Yarmouth Greyhound Homefinders - ECPv6.15.13//NONSGML v1.0//EN
CALSCALE:GREGORIAN
METHOD:PUBLISH
X-WR-CALNAME:Yarmouth Greyhound Homefinders
X-ORIGINAL-URL:https://www.yarmouth-greyhound-homefinders.co.uk
X-WR-CALDESC:Events for Yarmouth Greyhound Homefinders
REFRESH-INTERVAL;VALUE=DURATION:PT1H
X-Robots-Tag:noindex
X-PUBLISHED-TTL:PT1H
BEGIN:VTIMEZONE
TZID:Europe/London
BEGIN:DAYLIGHT
TZOFFSETFROM:+0000
TZOFFSETTO:+0100
TZNAME:BST
DTSTART:20230326T010000
END:DAYLIGHT
BEGIN:STANDARD
TZOFFSETFROM:+0100
TZOFFSETTO:+0000
TZNAME:GMT
DTSTART:20231029T010000
END:STANDARD
BEGIN:DAYLIGHT
TZOFFSETFROM:+0000
TZOFFSETTO:+0100
TZNAME:BST
DTSTART:20240331T010000
END:DAYLIGHT
BEGIN:STANDARD
TZOFFSETFROM:+0100
TZOFFSETTO:+0000
TZNAME:GMT
DTSTART:20241027T010000
END:STANDARD
BEGIN:DAYLIGHT
TZOFFSETFROM:+0000
TZOFFSETTO:+0100
TZNAME:BST
DTSTART:20250330T010000
END:DAYLIGHT
BEGIN:STANDARD
TZOFFSETFROM:+0100
TZOFFSETTO:+0000
TZNAME:GMT
DTSTART:20251026T010000
END:STANDARD
END:VTIMEZONE
BEGIN:VEVENT
DTSTART;TZID=Europe/London:20240804T110000
DTEND;TZID=Europe/London:20240804T160000
DTSTAMP:20260422T183830
CREATED:20240121T105459Z
LAST-MODIFIED:20240620T091829Z
UID:7153-1722769200-1722787200@www.yarmouth-greyhound-homefinders.co.uk
SUMMARY:Yarmouth Greyhound Homefinders  All Breeds Dog Show @ Trimingham
DESCRIPTION:The annual Homefinders’ Dog Show will held be Trimingham Village Hall. \nWe will have a terrific range of colourful collars\, fleeces\, waterproof macs\, Blizzard coats and fleeces. Really good quality and at very attractive prices. Buy your hound a new wardrobe! \nDog Show starts at noon. \nAll dogs are welcome-not just greyhounds. \nThe venue is Trimingham Village Hall\, Stone Field\, Cromer Rd\, Trimingham NR11 8HY
URL:https://www.yarmouth-greyhound-homefinders.co.uk/event/yarmouth-greyhound-homefinders-all-breeds-dog-show/
LOCATION:Trimingham Village Hall\, Stone Field\, Cromer Road\, NR11 8HY
ATTACH;FMTTYPE=image/jpeg:https://www.yarmouth-greyhound-homefinders.co.uk/wp-content/uploads/2022/12/black-and-white-head-and-shoulders-sized.jpg
END:VEVENT
END:VCALENDAR