BEGIN:VCALENDAR
VERSION:2.0
PRODID:-//Yarmouth Greyhound Homefinders - ECPv6.15.13//NONSGML v1.0//EN
CALSCALE:GREGORIAN
METHOD:PUBLISH
X-ORIGINAL-URL:https://www.yarmouth-greyhound-homefinders.co.uk
X-WR-CALDESC:Events for Yarmouth Greyhound Homefinders
REFRESH-INTERVAL;VALUE=DURATION:PT1H
X-Robots-Tag:noindex
X-PUBLISHED-TTL:PT1H
BEGIN:VTIMEZONE
TZID:Europe/London
BEGIN:DAYLIGHT
TZOFFSETFROM:+0000
TZOFFSETTO:+0100
TZNAME:BST
DTSTART:20240331T010000
END:DAYLIGHT
BEGIN:STANDARD
TZOFFSETFROM:+0100
TZOFFSETTO:+0000
TZNAME:GMT
DTSTART:20241027T010000
END:STANDARD
BEGIN:DAYLIGHT
TZOFFSETFROM:+0000
TZOFFSETTO:+0100
TZNAME:BST
DTSTART:20250330T010000
END:DAYLIGHT
BEGIN:STANDARD
TZOFFSETFROM:+0100
TZOFFSETTO:+0000
TZNAME:GMT
DTSTART:20251026T010000
END:STANDARD
BEGIN:DAYLIGHT
TZOFFSETFROM:+0000
TZOFFSETTO:+0100
TZNAME:BST
DTSTART:20260329T010000
END:DAYLIGHT
BEGIN:STANDARD
TZOFFSETFROM:+0100
TZOFFSETTO:+0000
TZNAME:GMT
DTSTART:20261025T010000
END:STANDARD
END:VTIMEZONE
BEGIN:VEVENT
DTSTART;TZID=Europe/London:20250726T090000
DTEND;TZID=Europe/London:20250726T170000
DTSTAMP:20260423T102119
CREATED:20250625T182544Z
LAST-MODIFIED:20250625T182547Z
UID:10522-1753520400-1753549200@www.yarmouth-greyhound-homefinders.co.uk
SUMMARY:Collection at Jolleys Pet Superstore
DESCRIPTION:Come and meet us\, have chat\, meet some greyhounds and maybe donate to help us to rehome retired racing greyhounds \n\n\n\nWe are happy to take donations in cash or by card and we can show you how to donate via a text
URL:https://www.yarmouth-greyhound-homefinders.co.uk/event/collection-at-jolleys-pet-superstore/
LOCATION:Jolleys Pet Store\, Sweet Briar Retail Park\, Sweet Briar Road\, Norwich\, NR6 5AL
ATTACH;FMTTYPE=image/jpeg:https://www.yarmouth-greyhound-homefinders.co.uk/wp-content/uploads/2023/01/black-and-white-head-and-shoulders-sized-for-events.jpg
END:VEVENT
END:VCALENDAR