BEGIN:VCALENDAR
VERSION:2.0
PRODID:-//Yarmouth Greyhound Homefinders - ECPv6.15.13//NONSGML v1.0//EN
CALSCALE:GREGORIAN
METHOD:PUBLISH
X-WR-CALNAME:Yarmouth Greyhound Homefinders
X-ORIGINAL-URL:https://www.yarmouth-greyhound-homefinders.co.uk
X-WR-CALDESC:Events for Yarmouth Greyhound Homefinders
REFRESH-INTERVAL;VALUE=DURATION:PT1H
X-Robots-Tag:noindex
X-PUBLISHED-TTL:PT1H
BEGIN:VTIMEZONE
TZID:Europe/London
BEGIN:DAYLIGHT
TZOFFSETFROM:+0000
TZOFFSETTO:+0100
TZNAME:BST
DTSTART:20230326T010000
END:DAYLIGHT
BEGIN:STANDARD
TZOFFSETFROM:+0100
TZOFFSETTO:+0000
TZNAME:GMT
DTSTART:20231029T010000
END:STANDARD
BEGIN:DAYLIGHT
TZOFFSETFROM:+0000
TZOFFSETTO:+0100
TZNAME:BST
DTSTART:20240331T010000
END:DAYLIGHT
BEGIN:STANDARD
TZOFFSETFROM:+0100
TZOFFSETTO:+0000
TZNAME:GMT
DTSTART:20241027T010000
END:STANDARD
BEGIN:DAYLIGHT
TZOFFSETFROM:+0000
TZOFFSETTO:+0100
TZNAME:BST
DTSTART:20250330T010000
END:DAYLIGHT
BEGIN:STANDARD
TZOFFSETFROM:+0100
TZOFFSETTO:+0000
TZNAME:GMT
DTSTART:20251026T010000
END:STANDARD
END:VTIMEZONE
BEGIN:VEVENT
DTSTART;TZID=Europe/London:20240901T100000
DTEND;TZID=Europe/London:20240901T170000
DTSTAMP:20260424T110126
CREATED:20240206T114125Z
LAST-MODIFIED:20240210T191344Z
UID:7299-1725184800-1725210000@www.yarmouth-greyhound-homefinders.co.uk
SUMMARY:Brampton Plough Day and Country Fayre
DESCRIPTION:Come along and look for our stall and van. Have a chat and talk greyhounds. \nWe will have a terrific range of colourful collars\, fleeces\, waterproof macs\, Blizzard coats and fleeces. Really good quality and at very attractive prices. Buy your hound a new wardrobe! \nThere will be lots of activities on the day including a ploughing match! \nOpen to the public from 10am \nEntrance to stall holders between 6.30am – 8.30am
URL:https://www.yarmouth-greyhound-homefinders.co.uk/event/brampton-plough-day-and-country-fayre/
LOCATION:Station Road\, Station Road\, Brampton\, NR34 8EQ
ATTACH;FMTTYPE=image/jpeg:https://www.yarmouth-greyhound-homefinders.co.uk/wp-content/uploads/2023/01/black-and-white-head-and-shoulders-sized-for-events.jpg
END:VEVENT
BEGIN:VEVENT
DTSTART;TZID=Europe/London:20240908T110000
DTEND;TZID=Europe/London:20240908T160000
DTSTAMP:20260424T110126
CREATED:20240809T181747Z
LAST-MODIFIED:20240810T092417Z
UID:8140-1725793200-1725811200@www.yarmouth-greyhound-homefinders.co.uk
SUMMARY:Fun Dog Show at Bradfield Cricket Club
DESCRIPTION:Come along and see us\, have a chat and perhaps buy something from our stall. Look out for our van. \nWe will have a terrific range of colourful collars\, waterproof macs\, Blizzard coats and fleeces. Really good quality and at very attractive prices. Buy your hound a new wardrobe! \nTen fun dog classes-judging starts at noon. \nBar and food available all day. \n  \nDoggie themed stall. \nAnd lots to keep you and your dog amused!
URL:https://www.yarmouth-greyhound-homefinders.co.uk/event/bradfield-cricket-club-fun-dog-show/
LOCATION:Bradfield Cricket Club\, Hall Road\, Bradfield\, NR28 0QW
ATTACH;FMTTYPE=image/jpeg:https://www.yarmouth-greyhound-homefinders.co.uk/wp-content/uploads/2023/01/black-and-white-head-and-shoulders-sized-for-events.jpg
END:VEVENT
BEGIN:VEVENT
DTSTART;TZID=Europe/London:20240914T093000
DTEND;TZID=Europe/London:20240914T093000
DTSTAMP:20260424T110126
CREATED:20240625T080152Z
LAST-MODIFIED:20250118T193739Z
UID:7947-1726306200-1726306200@www.yarmouth-greyhound-homefinders.co.uk
SUMMARY:Fun Dog Show
DESCRIPTION:We will be there.\n\nLook out for our van.\n\nCome and have a chat and even buy a new coat and/or collar for your hound.\n\nWe will have a great selection of coats and collars all at good prices.\n\nLots of classes\, lots of stalls\n\nGates open at 9.30. First class is at 10.00
URL:https://www.yarmouth-greyhound-homefinders.co.uk/event/charity-fun-dog-show/
LOCATION:Centre Paws\, Barnards Farm\,\, Barnham Broom\, Wymondham\, NR18 0RR
ATTACH;FMTTYPE=image/jpeg:https://www.yarmouth-greyhound-homefinders.co.uk/wp-content/uploads/2022/12/black-and-white-head-and-shoulders-sized.jpg
END:VEVENT
BEGIN:VEVENT
DTSTART;TZID=Europe/London:20240915T110000
DTEND;TZID=Europe/London:20240915T160000
DTSTAMP:20260424T110126
CREATED:20240525T185234Z
LAST-MODIFIED:20240710T080052Z
UID:7876-1726398000-1726416000@www.yarmouth-greyhound-homefinders.co.uk
SUMMARY:Mundesley Fun Dog Show
DESCRIPTION:Come along and have a chat and maybe buy something for your dog from our stall. Just look out for our van and our stall will be there! \nWe will have a terrific range of colourful collars\, fleeces\, waterproof macs\, Blizzard coats and fleeces. Really good quality and at very attractive prices. Buy your hound a new wardrobe! \n  \n 
URL:https://www.yarmouth-greyhound-homefinders.co.uk/event/mundesley-fun-dog-show-tbc/
LOCATION:Gold Park\, Victoria Rd\, Mundesley\, NR11 8JG
ATTACH;FMTTYPE=image/jpeg:https://www.yarmouth-greyhound-homefinders.co.uk/wp-content/uploads/2023/01/black-and-white-head-and-shoulders-sized-for-events.jpg
END:VEVENT
BEGIN:VEVENT
DTSTART;TZID=Europe/London:20240921T090000
DTEND;TZID=Europe/London:20240921T170000
DTSTAMP:20260424T110126
CREATED:20240813T151051Z
LAST-MODIFIED:20240813T151154Z
UID:8159-1726909200-1726938000@www.yarmouth-greyhound-homefinders.co.uk
SUMMARY:Collection at Tesco Superstore\, Harford Bridge\, Norwich
DESCRIPTION:We will be collecting at Tesco’s at Harford Bridge in Norwich. \nCome and have a chat\, meet some greyhounds and (hopefully) make a donation \nYou can donate in cash or by  text or by credit/debit card.
URL:https://www.yarmouth-greyhound-homefinders.co.uk/event/collection-at-tesco-harford-bridge-norwich/
LOCATION:Tesco Superstore\, Ipswich Road\, Norwich\, NR4 6DZ
ATTACH;FMTTYPE=image/jpeg:https://www.yarmouth-greyhound-homefinders.co.uk/wp-content/uploads/2023/01/black-and-white-head-and-shoulders-sized-for-events.jpg
END:VEVENT
BEGIN:VEVENT
DTSTART;TZID=Europe/London:20240922T110000
DTEND;TZID=Europe/London:20240922T140000
DTSTAMP:20260424T110126
CREATED:20240119T193647Z
LAST-MODIFIED:20240915T180729Z
UID:7133-1727002800-1727013600@www.yarmouth-greyhound-homefinders.co.uk
SUMMARY:Open Day and Auction
DESCRIPTION:Date for your diary. \nAt noon there will be an auction. Lots to bid for and it is always a fun event. \nCome and join us for a chat\, a cup of tea and a piece of cake. Lots of stalls as well. \nWe will have a terrific range of colourful collars\, waterproof macs\, Blizzard coats and fleeces. Really good quality and at very attractive prices. Buy your hound a new wardrobe! \nThere will be lots of stalls including Kizzie’s Natural Treats\, Paula’s Textiles and Paws on Portraits. \nIt would be lovely to see all the dogs and their owners of course. \nAll sighthounds are welcome but we would politely advise that small breeds are not brought along.
URL:https://www.yarmouth-greyhound-homefinders.co.uk/event/open-day-and-auction/
LOCATION:Yarmouth Greyhound Homefinders\, 51 Cromer Road\, Hainford\, NR10 3AU
ATTACH;FMTTYPE=image/jpeg:https://www.yarmouth-greyhound-homefinders.co.uk/wp-content/uploads/2022/12/black-and-white-head-and-shoulders-sized.jpg
END:VEVENT
BEGIN:VEVENT
DTSTART;TZID=Europe/London:20240929T110000
DTEND;TZID=Europe/London:20240929T110000
DTSTAMP:20260424T110126
CREATED:20240121T162418Z
LAST-MODIFIED:20250531T183054Z
UID:7162-1727607600-1727607600@www.yarmouth-greyhound-homefinders.co.uk
SUMMARY:Great Global Greyhound Walk-Blickling Hall
DESCRIPTION:Join us on the Great Global Greyhound Walk\n\nThis is an annual dog-walking event that brings together greyhounds\, lurchers\, other sighthounds and their owners to raise awareness of the breeds and show the public just what wonderful pets they make.\n\nThe  Walk is a free to attend and will last no more than a hour.\n\nBring a picnic or refreshments are available at the onsite cafe.\n\nMeet at the main car park for a 11 am start.\n\nThere is a £5 car parking charge unless you are a member of the National Trust\n\nTHERE ARE CURRENTLY ROAD CLOSURES  AND A DIVERSION IN AYLSHAM TOWN CENTRE. PLEASE ALLOW AN EXTRA 10 MINUTES TO GET TO BLICKLING IF YOU WILL BE APPROACHING FROM THE  AYLSHAM DIRECTION.
URL:https://www.yarmouth-greyhound-homefinders.co.uk/event/great-greyhound-walk/
LOCATION:Blickling Hall Estate\, Blickling\, NR11 6NF
ATTACH;FMTTYPE=image/jpeg:https://www.yarmouth-greyhound-homefinders.co.uk/wp-content/uploads/2022/12/black-and-white-head-and-shoulders-sized.jpg
END:VEVENT
END:VCALENDAR