BEGIN:VCALENDAR
VERSION:2.0
PRODID:-//Yarmouth Greyhound Homefinders - ECPv6.15.13//NONSGML v1.0//EN
CALSCALE:GREGORIAN
METHOD:PUBLISH
X-ORIGINAL-URL:https://www.yarmouth-greyhound-homefinders.co.uk
X-WR-CALDESC:Events for Yarmouth Greyhound Homefinders
REFRESH-INTERVAL;VALUE=DURATION:PT1H
X-Robots-Tag:noindex
X-PUBLISHED-TTL:PT1H
BEGIN:VTIMEZONE
TZID:Europe/London
BEGIN:DAYLIGHT
TZOFFSETFROM:+0000
TZOFFSETTO:+0100
TZNAME:BST
DTSTART:20240331T010000
END:DAYLIGHT
BEGIN:STANDARD
TZOFFSETFROM:+0100
TZOFFSETTO:+0000
TZNAME:GMT
DTSTART:20241027T010000
END:STANDARD
BEGIN:DAYLIGHT
TZOFFSETFROM:+0000
TZOFFSETTO:+0100
TZNAME:BST
DTSTART:20250330T010000
END:DAYLIGHT
BEGIN:STANDARD
TZOFFSETFROM:+0100
TZOFFSETTO:+0000
TZNAME:GMT
DTSTART:20251026T010000
END:STANDARD
BEGIN:DAYLIGHT
TZOFFSETFROM:+0000
TZOFFSETTO:+0100
TZNAME:BST
DTSTART:20260329T010000
END:DAYLIGHT
BEGIN:STANDARD
TZOFFSETFROM:+0100
TZOFFSETTO:+0000
TZNAME:GMT
DTSTART:20261025T010000
END:STANDARD
END:VTIMEZONE
BEGIN:VEVENT
DTSTART;TZID=Europe/London:20250518T110000
DTEND;TZID=Europe/London:20250518T140000
DTSTAMP:20260423T131429
CREATED:20250107T161039Z
LAST-MODIFIED:20250412T151127Z
UID:9052-1747566000-1747576800@www.yarmouth-greyhound-homefinders.co.uk
SUMMARY:Open Day and Fun Greyhound Dog Show at the Kennels
DESCRIPTION:Come and join us at the Open Days at the Kennels. \n\n\n\nClick on the greyhound for full info about the event \n\n\n\nAll our usual stalls and Kizzie’s Natural Treats stall will be there. \n\n\n\nWe will have a terrific range of colourful collars\, fleeces\, waterproof macs\, Blizzard coats and fleeces. Really good quality and at very attractive prices. Buy your hound a new wardrobe! \n\n\n\nPlenty of time for a chat and a cup of tea (and a cake). Or teat yourself to a hot snack from the BBQ. \n\n\n\nThe Fun Greyhound Dog Show \n\n\n\nAt noon there will be a fun greyhound dog show. Bring your hound and enter her/him! \n\n\n\n£1 per entry \n\n\n\nClasses\n\n\n\nBrilliant BrindlesBlack BeautiesWhite and Blue in the HueFabulous FawnMade in BritainMade in IrelandHandsome boysPretty girlsFantastic FamiliesGolden years (10+)Best in ShowDog Show to start at 12. \n\n\n\nAll sighthounds are welcome to come along but we would politely advise that small breeds are not brought along.
URL:https://www.yarmouth-greyhound-homefinders.co.uk/event/open-day-and-fun-greyhound-dog-show-at-the-kennels/
LOCATION:Yarmouth Greyhound Homefinders\, 51 Cromer Road\, Hainford\, NR10 3AU
ATTACH;FMTTYPE=image/jpeg:https://www.yarmouth-greyhound-homefinders.co.uk/wp-content/uploads/2022/12/black-and-white-head-and-shoulders-sized.jpg
END:VEVENT
BEGIN:VEVENT
DTSTART;TZID=Europe/London:20250526T110000
DTEND;TZID=Europe/London:20250526T150000
DTSTAMP:20260423T131429
CREATED:20250414T131554Z
LAST-MODIFIED:20250414T182156Z
UID:9821-1748257200-1748271600@www.yarmouth-greyhound-homefinders.co.uk
SUMMARY:King's Court Care Home Community Fete
DESCRIPTION:Come along and see us\, have a chat and perhaps buy something from our stall. Or win a prize in our tombola.We will have some lovely branded merchandise. \n\n\n\nFood\, entertainment\, games and stalls!
URL:https://www.yarmouth-greyhound-homefinders.co.uk/event/kings-court-care-home-community-fete/
LOCATION:King’s Court Care Home\, Hempstead Road\, Holt\, NR25 6DQ
ATTACH;FMTTYPE=image/jpeg:https://www.yarmouth-greyhound-homefinders.co.uk/wp-content/uploads/2023/01/black-and-white-head-and-shoulders-sized-for-events.jpg
END:VEVENT
BEGIN:VEVENT
DTSTART;TZID=Europe/London:20250531T090000
DTEND;TZID=Europe/London:20250531T170000
DTSTAMP:20260423T131429
CREATED:20250519T071836Z
LAST-MODIFIED:20250519T071904Z
UID:10195-1748682000-1748710800@www.yarmouth-greyhound-homefinders.co.uk
SUMMARY:Collection at Tesco Superstore\, Harford Bridge\, Norwich
DESCRIPTION:We will be collecting at Tesco’s at Harford Bridge in Norwich.Come and have a chat\, meet some greyhounds and (hopefully) make a donationYou can donate in cash or by  text or by credit/debit card.
URL:https://www.yarmouth-greyhound-homefinders.co.uk/event/collection-at-tesco-superstore-harford-bridge-norwich/
LOCATION:Tesco Superstore\, Ipswich Road\, Norwich\, NR4 6DZ
ATTACH;FMTTYPE=image/jpeg:https://www.yarmouth-greyhound-homefinders.co.uk/wp-content/uploads/2023/01/black-and-white-head-and-shoulders-sized-for-events.jpg
END:VEVENT
END:VCALENDAR