BEGIN:VCALENDAR
VERSION:2.0
PRODID:-//Yarmouth Greyhound Homefinders - ECPv6.15.13//NONSGML v1.0//EN
CALSCALE:GREGORIAN
METHOD:PUBLISH
X-ORIGINAL-URL:https://www.yarmouth-greyhound-homefinders.co.uk
X-WR-CALDESC:Events for Yarmouth Greyhound Homefinders
REFRESH-INTERVAL;VALUE=DURATION:PT1H
X-Robots-Tag:noindex
X-PUBLISHED-TTL:PT1H
BEGIN:VTIMEZONE
TZID:Europe/London
BEGIN:DAYLIGHT
TZOFFSETFROM:+0000
TZOFFSETTO:+0100
TZNAME:BST
DTSTART:20250330T010000
END:DAYLIGHT
BEGIN:STANDARD
TZOFFSETFROM:+0100
TZOFFSETTO:+0000
TZNAME:GMT
DTSTART:20251026T010000
END:STANDARD
BEGIN:DAYLIGHT
TZOFFSETFROM:+0000
TZOFFSETTO:+0100
TZNAME:BST
DTSTART:20260329T010000
END:DAYLIGHT
BEGIN:STANDARD
TZOFFSETFROM:+0100
TZOFFSETTO:+0000
TZNAME:GMT
DTSTART:20261025T010000
END:STANDARD
BEGIN:DAYLIGHT
TZOFFSETFROM:+0000
TZOFFSETTO:+0100
TZNAME:BST
DTSTART:20270328T010000
END:DAYLIGHT
BEGIN:STANDARD
TZOFFSETFROM:+0100
TZOFFSETTO:+0000
TZNAME:GMT
DTSTART:20271031T010000
END:STANDARD
END:VTIMEZONE
BEGIN:VEVENT
DTSTART;TZID=Europe/London:20260905T000000
DTEND;TZID=Europe/London:20260905T235959
DTSTAMP:20260423T023020
CREATED:20251210T164941Z
LAST-MODIFIED:20251210T165432Z
UID:11532-1788566400-1788652799@www.yarmouth-greyhound-homefinders.co.uk
SUMMARY:Track Walk at Yarmouth Greyhound Stadium
DESCRIPTION:Give your hound an outing. Bring her/him along to the annual YGH track walk at Yarmouth Greyhound Stadium.Although not restricted to Homefinder’s greyhounds it may not be suitable for other breeds and please don’t bring along any small dogs.We will have our shop stall there and will be selling lots of dog related items. We will have warm winter coats for your hounds. And YGH Christmas cards and calendars will be on sale.And the cafe is usually open for tea/coffee/cold drinks and bacon butties.As well as walking the track you can look behind the scenes at the kennels and vet’s area. \n\n\n\nTime TBC \n\n\n\n \n\n\n\nYarmouth Stadium\, Yarmouth Rd\, Caister-on-Sea\, Great Yarmouth NR30 5TE
URL:https://www.yarmouth-greyhound-homefinders.co.uk/event/track-walk-at-yarmouth-greyhound-stadium-3/
ATTACH;FMTTYPE=image/jpeg:https://www.yarmouth-greyhound-homefinders.co.uk/wp-content/uploads/2023/01/black-and-white-head-and-shoulders-sized-for-events.jpg
END:VEVENT
BEGIN:VEVENT
DTSTART;TZID=Europe/London:20260920T110000
DTEND;TZID=Europe/London:20260920T140000
DTSTAMP:20260423T023020
CREATED:20260110T090542Z
LAST-MODIFIED:20260110T090552Z
UID:11653-1789902000-1789912800@www.yarmouth-greyhound-homefinders.co.uk
SUMMARY:Open Day and Auction
DESCRIPTION:Auction at noon. \n\n\n\nRefreshments\, raffle\, tombola\, cake stall\, shop stall. \n\n\n\nYarmouth Greyhound Homefinders Kennels. 51 Cromer Road\, Hainford\, NR10 3AU
URL:https://www.yarmouth-greyhound-homefinders.co.uk/event/open-day-and-auction-3/
ATTACH;FMTTYPE=image/jpeg:https://www.yarmouth-greyhound-homefinders.co.uk/wp-content/uploads/2023/01/black-and-white-head-and-shoulders-sized-for-events.jpg
END:VEVENT
BEGIN:VEVENT
DTSTART;TZID=Europe/London:20260927T000000
DTEND;TZID=Europe/London:20260927T235959
DTSTAMP:20260423T023020
CREATED:20251229T155357Z
LAST-MODIFIED:20251229T155357Z
UID:11602-1790467200-1790553599@www.yarmouth-greyhound-homefinders.co.uk
SUMMARY:Great Global Greyhound Walk (venue/time to be confirmed)
DESCRIPTION:Join us on the annual Great Global Greyhound Walk \n\n\n\nA date for your diary and more details will appear asap
URL:https://www.yarmouth-greyhound-homefinders.co.uk/event/great-global-greyhound-walk-venue-time-to-be-confirmed/
ATTACH;FMTTYPE=image/jpeg:https://www.yarmouth-greyhound-homefinders.co.uk/wp-content/uploads/2023/01/black-and-white-head-and-shoulders-sized-for-events.jpg
END:VEVENT
END:VCALENDAR